BEGIN:VCALENDAR
VERSION:2.0
PRODID:-//MA/IN festival - ECPv6.15.17.1//NONSGML v1.0//EN
CALSCALE:GREGORIAN
METHOD:PUBLISH
X-WR-CALNAME:MA/IN festival
X-ORIGINAL-URL:https://www.mainfest.it
X-WR-CALDESC:Eventi per MA/IN festival
REFRESH-INTERVAL;VALUE=DURATION:PT1H
X-Robots-Tag:noindex
X-PUBLISHED-TTL:PT1H
BEGIN:VTIMEZONE
TZID:Europe/Rome
BEGIN:DAYLIGHT
TZOFFSETFROM:+0100
TZOFFSETTO:+0200
TZNAME:CEST
DTSTART:20230326T010000
END:DAYLIGHT
BEGIN:STANDARD
TZOFFSETFROM:+0200
TZOFFSETTO:+0100
TZNAME:CET
DTSTART:20231029T010000
END:STANDARD
BEGIN:DAYLIGHT
TZOFFSETFROM:+0100
TZOFFSETTO:+0200
TZNAME:CEST
DTSTART:20240331T010000
END:DAYLIGHT
BEGIN:STANDARD
TZOFFSETFROM:+0200
TZOFFSETTO:+0100
TZNAME:CET
DTSTART:20241027T010000
END:STANDARD
BEGIN:DAYLIGHT
TZOFFSETFROM:+0100
TZOFFSETTO:+0200
TZNAME:CEST
DTSTART:20250330T010000
END:DAYLIGHT
BEGIN:STANDARD
TZOFFSETFROM:+0200
TZOFFSETTO:+0100
TZNAME:CET
DTSTART:20251026T010000
END:STANDARD
END:VTIMEZONE
BEGIN:VEVENT
DTSTART;TZID=Europe/Rome:20240823T203000
DTEND;TZID=Europe/Rome:20240823T223000
DTSTAMP:20260419T212904
CREATED:20240818T205923Z
LAST-MODIFIED:20240829T081123Z
UID:9915-1724445000-1724452200@www.mainfest.it
SUMMARY:MA/IN24 [anteprima] - M.A.Rea / RESONANCIAS
DESCRIPTION:©  M.A.Rea\n \nPROGRAMMA [anteprima 24]\nh 20:30 | opening\n⦿  G.Catuogno + G.Colangelo + M.Quinto + G.Nuzzo [IT] /// M.A.Rea. [monastery augmented reality]\nin collaboraition with LEM [Lecce Electronic Music] – Conservatory of Lecce\nA/V mapping – installation [to Bill Viola]\n \nh 21\n⦿  D.Antezza + P.Basile + D.Pitoia [IT]/// RESONANCIAS\nlive performance\nDonato Pitoia – guitars\nPino Basile – percussion /electronics\nDaniele Antezza – electronics
URL:https://www.mainfest.it/calendar/main24anteprima2/
LOCATION:Monastero di S. Ippolito\, Monticchio
CATEGORIES:Audiovisual,Live Performance,Sound Art
ATTACH;FMTTYPE=image/jpeg:https://www.mainfest.it/wp-content/uploads/2024/08/M.A.REa_.jpeg
END:VEVENT
BEGIN:VEVENT
DTSTART;TZID=Europe/Rome:20240822T203000
DTEND;TZID=Europe/Rome:20240822T230000
DTSTAMP:20260419T212904
CREATED:20240818T201123Z
LAST-MODIFIED:20240829T081051Z
UID:9900-1724358600-1724367600@www.mainfest.it
SUMMARY:MA/IN24 [anteprima] - ELECTROVOICE BOX / STANZE
DESCRIPTION:©  Stanze [F.Scacchioli/V.Core]\n \nPROGRAMMA [anteprima 24]\nh 20:30 | opening\n⦿ G.Catuogno + G.Colangelo + M.Quinto + G.Nuzzo [IT] /// M.A.Rea. [monastery augmented reality]\nin collaboraition with LEM [Lecce Electronic Music] – Conservatory of Lecce\nA/V mapping – installation [to Bill Viola]\n \nh 21\n⦿ Eleonora Claps  + Francesco Rizzo [IT] /// ELECTROVOICE BOX\nconcert for voice + electronics \n\nBernhard Lang [AT] /// “The Cold Trip\, Pt.2”: XV. THE CROW\nMelissa Dunphy [US] /// June\nKrzysztof Wołek [PL] /// Cookbook for the Modern Boygirl\n\n* Eleonora Claps: voce / Francesco Rizzo: live electronics \nh 21:45\n⦿ Vincenzo Core + Fabio Scacchioli [IT] /// STANZE\nlive A/V performance
URL:https://www.mainfest.it/calendar/main24anteprima1/
LOCATION:Monastero di S. Ippolito\, Monticchio
CATEGORIES:Audiovisual,Live Performance,Mixed Media,Sound Art
ATTACH;FMTTYPE=image/jpeg:https://www.mainfest.it/wp-content/uploads/2024/08/WhatsApp-Image-2024-07-30-at-10.27.41-e1724013061221.jpeg
END:VEVENT
END:VCALENDAR